BEGIN:VCALENDAR
VERSION:2.0
PRODID:-//Dover NH Democrats - ECPv6.15.18//NONSGML v1.0//EN
CALSCALE:GREGORIAN
METHOD:PUBLISH
X-ORIGINAL-URL:https://dovernhdemocrats.org
X-WR-CALDESC:Events for Dover NH Democrats
REFRESH-INTERVAL;VALUE=DURATION:PT1H
X-Robots-Tag:noindex
X-PUBLISHED-TTL:PT1H
BEGIN:VTIMEZONE
TZID:America/New_York
BEGIN:DAYLIGHT
TZOFFSETFROM:-0500
TZOFFSETTO:-0400
TZNAME:EDT
DTSTART:20250309T070000
END:DAYLIGHT
BEGIN:STANDARD
TZOFFSETFROM:-0400
TZOFFSETTO:-0500
TZNAME:EST
DTSTART:20251102T060000
END:STANDARD
BEGIN:DAYLIGHT
TZOFFSETFROM:-0500
TZOFFSETTO:-0400
TZNAME:EDT
DTSTART:20260308T070000
END:DAYLIGHT
BEGIN:STANDARD
TZOFFSETFROM:-0400
TZOFFSETTO:-0500
TZNAME:EST
DTSTART:20261101T060000
END:STANDARD
BEGIN:DAYLIGHT
TZOFFSETFROM:-0500
TZOFFSETTO:-0400
TZNAME:EDT
DTSTART:20270314T070000
END:DAYLIGHT
BEGIN:STANDARD
TZOFFSETFROM:-0400
TZOFFSETTO:-0500
TZNAME:EST
DTSTART:20271107T060000
END:STANDARD
END:VTIMEZONE
BEGIN:VEVENT
DTSTART;TZID=America/New_York:20260423T170000
DTEND;TZID=America/New_York:20260423T190000
DTSTAMP:20260421T062712
CREATED:20260408T121236Z
LAST-MODIFIED:20260421T000609Z
UID:8023-1776963600-1776970800@dovernhdemocrats.org
SUMMARY:April Pub Night with NH Government Trivia Bingo!
DESCRIPTION:Join the Dover Dems as we put a new twist on our monthly pub night with NH Government Trivia Bingo! Think you now how local and state level government works in NH? Let’s put that knowledge to the test! \n 
URL:https://dovernhdemocrats.org/event/april-pub-night-with-nh-government-trivia-bingo/
LOCATION:Garrison City Beer Works\, 455 Central Ave\, Dover
CATEGORIES:Pub Night
ATTACH;FMTTYPE=image/jpeg:https://dovernhdemocrats.org/wp-content/uploads/2026/04/DDems-April-2026-Pub-Night-Invite.jpg
END:VEVENT
END:VCALENDAR